BEGIN:VCALENDAR
VERSION:2.0
PRODID:-//wp-events-plugin.com//7.2.3.1//EN
BEGIN:VEVENT
UID:575@zwar-langenfeld.de
DTSTART:20241125T183000Z
DTEND:20241125T200000Z
DTSTAMP:20241113T112742Z
URL:https://zwar-langenfeld.de/events/47-2024-11-25/
SUMMARY:Basistreffen
DESCRIPTION:Unsere Treffen finden statt im "Café am Wald"\n\n 	Hinter dem 
 Karl-Schröder-Haus\, Langfort 3\n 	Eingang über den Parkplatz rechts vom
  Karl-Schröder-Haus\n 	Alternativ: Von der Jahnstraße kommend\, links in
  die Langforter Straße einbiegen und gleich links den Parkplatz an der re
 chten Seite anfahren.\n 	\n 	\n 	ACHTUNG   !!!    Ab 06. Januar 2025 f
 inden unsere Treffen im Siegfried-Dißmann-Haus (Solinger Str. 103\, 40764
  Langenfeld) statt.\n
ATTACH;FMTTYPE=image/jpeg:https://zwar-langenfeld.de/wp-content/uploads/20
 24/04/istockphoto-1456882554-612x612-1.jpg
CATEGORIES:Basistreffen
LOCATION:Café am Wald\, Langfort 3\, Langenfeld\, 40764\, Deutschland
X-APPLE-STRUCTURED-LOCATION;VALUE=URI;X-ADDRESS=Langfort 3\, Langenfeld\, 4
 0764\, Deutschland;X-APPLE-RADIUS=100;X-TITLE=Café am Wald:geo:0,0
END:VEVENT
END:VCALENDAR