BEGIN:VCALENDAR
VERSION:2.0
PRODID:-//wp-events-plugin.com//7.2.3.1//EN
BEGIN:VEVENT
UID:850@zwar-langenfeld.de
DTSTART:20251007T121500Z
DTEND:20251007T131500Z
DTSTAMP:20250930T130706Z
URL:https://zwar-langenfeld.de/events/bauernhof-dickhoven/
SUMMARY:Bauernhof Dickhoven
DESCRIPTION:Besuch Bauernhof Dickhoven in Solingen \n\nAdresse: Bauernhof 
 Dickhoven\, Linde 16\, 42699 Solingen - Ohligs/Aufderhöhe/Merscheid\n\nF
 ührung: 14:00 Uhr - 15:00 Uhr\n\n&nbsp\;\n\nOrganisation: Gudrun\n\n&nbsp
 \;
ATTACH;FMTTYPE=image/jpeg:https://zwar-langenfeld.de/wp-content/uploads/20
 25/09/Bauernhof-Dickhofven.jpg
CATEGORIES:Ausflüge
LOCATION:Parkplatz Freizeitpark gegenüber SGL\, Langforter Straße\, 40764
  Langenfeld\, Deutschland
X-APPLE-STRUCTURED-LOCATION;VALUE=URI;X-ADDRESS=Langforter Straße\, 40764 
 Langenfeld\, Deutschland;X-APPLE-RADIUS=100;X-TITLE=Parkplatz Freizeitpark
  gegenüber SGL:geo:0,0
END:VEVENT
END:VCALENDAR