BEGIN:VCALENDAR
VERSION:2.0
PRODID:-//wp-events-plugin.com//7.2.3.1//EN
BEGIN:VEVENT
UID:1383@zwar-langenfeld.de
DTSTART:20260328T140000Z
DTEND:20260328T170000Z
DTSTAMP:20260303T112649Z
URL:https://zwar-langenfeld.de/events/bergische-kaffeetafel-2/
SUMMARY:Bergische Kaffeetafel
DESCRIPTION:
ATTACH;FMTTYPE=image/jpeg:https://zwar-langenfeld.de/wp-content/uploads/20
 26/03/breakfast-1489815_960_720.jpg
CATEGORIES:Feiern
LOCATION:Siegfried Dißmann Haus\, Solinger Straße 103\, 40764 Langenfeld\
 , Deutschland
X-APPLE-STRUCTURED-LOCATION;VALUE=URI;X-ADDRESS=Solinger Straße 103\, 4076
 4 Langenfeld\, Deutschland;X-APPLE-RADIUS=100;X-TITLE=Siegfried Dißmann H
 aus:geo:0,0
END:VEVENT
END:VCALENDAR