BEGIN:VCALENDAR
VERSION:2.0
PRODID:-//wp-events-plugin.com//7.2.3.1//EN
BEGIN:VEVENT
UID:674@zwar-langenfeld.de
DTSTART:20250315T140000Z
DTEND:20250315T170000Z
DTSTAMP:20250215T092312Z
URL:https://zwar-langenfeld.de/events/bergische-kaffeetafel/
SUMMARY:Bergische Kaffeetafel
DESCRIPTION:\n\nDie Bergische Kaffeetafel ist Ausdruck der Gastfreundschaft
  des Bergischen Landes\, der Gast wurde mit allem verwöhnte\,\nwas die Sp
 eisekammer hergab\, Koffiedrenken mit allem dröm on dran wie man im Berg
 ischen sagt.\n\nDie Bergische Kaffeetafel mit vielen Leckereien gilt als k
 ulinarische Botschafter des Bergischen Landes-\n\n&nbsp\;\n\n&nbsp\;\n\nWa
 s gehört alles zu einer Bergischen Kaffeetafel ?\n\n 	Kaffee\n 	Hefeblatz
  oder Rosinenstuten\n 	verschiedene bergische Brotsorten (Schwarz- und Gra
 ubrot)\n 	Honig\, Birnen-\, Apfel- oder Rübenkraut\, Konfitüre\n 	Butter
 \, Quark\, Käse\n 	Wurst und Schinken\n 	Milchreis mit Zucker und Zimt\n 
 	Waffeln\n 	und zum Schluss ein bergischer Korn oder Magenbitter.\n\nNatü
 rlich kann der Schmaus noch erweitert werden\, der Phantasie sind hier kei
 ne Grenzen gesetzt!\n\n&nbsp\;\n\n&nbsp\;\n\n&nbsp\;
ATTACH;FMTTYPE=image/jpeg:https://zwar-langenfeld.de/wp-content/uploads/20
 25/02/maxresdefault.jpg
CATEGORIES:Feiern
LOCATION:Siegfried Dißmann Haus\, Solinger Straße 103\, 40764 Langenfeld\
 , Deutschland
X-APPLE-STRUCTURED-LOCATION;VALUE=URI;X-ADDRESS=Solinger Straße 103\, 4076
 4 Langenfeld\, Deutschland;X-APPLE-RADIUS=100;X-TITLE=Siegfried Dißmann H
 aus:geo:0,0
END:VEVENT
END:VCALENDAR