BEGIN:VCALENDAR
VERSION:2.0
PRODID:-//wp-events-plugin.com//7.2.3.1//EN
BEGIN:VEVENT
UID:323@zwar-langenfeld.de
DTSTART:20240409T090000Z
DTEND:20240409T160000Z
DTSTAMP:20240407T220748Z
URL:https://zwar-langenfeld.de/events/besuch-besichtigung-haaner-felsenque
 lle-gmbh/
SUMMARY:Besuch / Besichtigung Haaner Felsenquelle GmbH
DESCRIPTION:Treffpunkt:         10:00 Uhr - Parkplatz (groß) am Freiz
 eitpark Langfort (gegenüber Tennisclub Grün-Weiß)\n\nAnschrift:     
       Haaner Felsenquelle GmbH\, Flurstraße 140\, 42781 Haan\n\nNach B
 esichtigung Einkehr im Restaurant "Königshöhe"\, Ginsterweg 14\, 42781 H
 aan.\n\n&nbsp\;
ATTACH;FMTTYPE=image/jpeg:https://zwar-langenfeld.de/wp-content/uploads/20
 24/04/image.png
CATEGORIES:Ausflüge
END:VEVENT
END:VCALENDAR