BEGIN:VCALENDAR
VERSION:2.0
PRODID:-//wp-events-plugin.com//7.2.3.1//EN
BEGIN:VEVENT
UID:324@zwar-langenfeld.de
DTSTART:20240508T120000Z
DTEND:20240508T160000Z
DTSTAMP:20240416T174726Z
URL:https://zwar-langenfeld.de/events/besuch-besichtigung-hilscher-hof-wit
 zheldener-bauernkaeserei/
SUMMARY:Besuch / Besichtigung Hilscher Hof & Witzheldener Bauernkäserei
DESCRIPTION:Treffpunkt:        13:00 Uhr   ???? Parkplatz (groß) am 
 Freizeitpark Langfort (gegenüber Tennisclub Grün-Weiß)\n\nAnschrift:  
          Hilscher Hof &amp\; Witzheldener Bauernkäserei\, Krähwinke
 l 9\, 42799 Leichlingen\n\nBeginn der Führung: 14:00 Uhr\n\nNach Besichti
 gung Besuch der Bauernhofgastronomie "Rusticus"im Höhendorf Witzhelden.\n
 \n&nbsp\;
ATTACH;FMTTYPE=image/jpeg:https://zwar-langenfeld.de/wp-content/uploads/20
 24/03/122kl.jpg
CATEGORIES:Ausflüge
END:VEVENT
END:VCALENDAR