BEGIN:VCALENDAR
VERSION:2.0
PRODID:-//wp-events-plugin.com//7.2.3.1//EN
BEGIN:VEVENT
UID:1388@zwar-langenfeld.de
DTSTART:20260427T130000Z
DTEND:20260427T140000Z
DTSTAMP:20260420T063653Z
URL:https://zwar-langenfeld.de/events/boule-3-2026-04-27/
SUMMARY:Boule
DESCRIPTION:Wir treffen uns jeden Montag (bei trockenem Wetter) 14 Uhr für
  ein bis eineinhalb Stunden auf der Boule-Bahn im Freizeitpark Langfort.\n
 Wer eigene Kugeln besitzt\, sollte sie unbedingt mitbringen.\nBei Bedarf u
 nd vorheriger Absprache könnt ihr euch die Kugeln auch gerne von einem an
 deren Spieler ausleihen.\nWir freuen uns auf jeden neuen Spieler!
ATTACH;FMTTYPE=image/jpeg:https://zwar-langenfeld.de/wp-content/uploads/20
 24/03/IMG_1423.jpg
CATEGORIES:Boule
LOCATION:Freizeitpark Langfort / Boule-Platz\, Freizeitpark Langfort - Boul
 e-Platz\, Langenfeld\, 40764\, Deutschland
X-APPLE-STRUCTURED-LOCATION;VALUE=URI;X-ADDRESS=Freizeitpark Langfort - Bou
 le-Platz\, Langenfeld\, 40764\, Deutschland;X-APPLE-RADIUS=100;X-TITLE=Fre
 izeitpark Langfort / Boule-Platz:geo:0,0
END:VEVENT
END:VCALENDAR