BEGIN:VCALENDAR
VERSION:2.0
PRODID:-//wp-events-plugin.com//7.2.3.1//EN
BEGIN:VEVENT
UID:1335@zwar-langenfeld.de
DTSTART:20270127T180000Z
DTEND:20270127T200000Z
DTSTAMP:20260105T120643Z
URL:https://zwar-langenfeld.de/events/bowling-2-2026-01-28-2026-02-25-2026
 -03-25-2026-04-22-2026-05-20-2026-06-17-2026-07-15-2026-08-12-2026-09-09-2
 026-10-07-2026-11-04-2026-12-02-2026-12-30-2027-01-27/
SUMMARY:Bowling
DESCRIPTION:Aller 4 Wochen Mittwoch (bitte in den Kalender schauen)\n\nTref
 fpunkt: 19:00 Uhr\n\nBowling Sportzentrum Düsseldorf\nWimpfener Str. 18 A
 \, 40597 Düsseldorf\n\nPreis:          30 Euro / Bahn / Stunde\nLeih
 schuhe 1\,80 Euro / Person\n\nEs werden vorab 2 Bahnen reserviert.\n\nMitg
 lieder der Bowlinggruppe werden  vor jedem Treffen hinsichtlich Ihrer Tei
 lnahme kontaktiert.\n\nGemeinschaftsveranstaltung mit Zwar-Mitte\nVerantwo
 rtlich: Winfried Kuppels (Zwar-Mitte)
ATTACH;FMTTYPE=image/jpeg:https://zwar-langenfeld.de/wp-content/uploads/20
 24/04/istockphoto-1139879055-612x612-1.jpg
CATEGORIES:Bowling
LOCATION:Bowling Sportzentrum Düsseldorf\, Wimpfener Str. 18 A\, Düsseldo
 rf\, 40597\, Deutschland
X-APPLE-STRUCTURED-LOCATION;VALUE=URI;X-ADDRESS=Wimpfener Str. 18 A\, Düss
 eldorf\, 40597\, Deutschland;X-APPLE-RADIUS=100;X-TITLE=Bowling Sportzentr
 um Düsseldorf:geo:0,0
END:VEVENT
END:VCALENDAR