BEGIN:VCALENDAR
VERSION:2.0
PRODID:-//wp-events-plugin.com//7.2.3.1//EN
BEGIN:VEVENT
UID:702@zwar-langenfeld.de
DTSTART:20250312T170000Z
DTEND:20250312T180000Z
DTSTAMP:20250218T104129Z
URL:https://zwar-langenfeld.de/events/briefzentrum-langenfeld/
SUMMARY:Briefzentrum Langenfeld
DESCRIPTION:Besichtigung  Briefzentrum Langenfeld\n\nTreffpunkt:  Elisabe
 th-Seibert-Str. 6 - 8\,  40764 Langenfeld  (17:50 Uhr)\n\nDer Abend klin
 gt im China Restaurant Shao aus (Elisabeth-Seibert-Str. 4a\,  40764 Lange
 nfeld)\n\nOrganisation: Ludwig\n\n&nbsp\;
ATTACH;FMTTYPE=image/jpeg:https://zwar-langenfeld.de/wp-content/uploads/20
 25/02/logo.jpg
CATEGORIES:Ausflüge
LOCATION:Briefzentrum Langenfeld\, Elisabeth-Selbert-Str. 6 - 8\, Langenfel
 d\, NRW\, 40764\, Deutschland
X-APPLE-STRUCTURED-LOCATION;VALUE=URI;X-ADDRESS=Elisabeth-Selbert-Str. 6 - 
 8\, Langenfeld\, NRW\, 40764\, Deutschland;X-APPLE-RADIUS=100;X-TITLE=Brie
 fzentrum Langenfeld:geo:0,0
END:VEVENT
END:VCALENDAR