BEGIN:VCALENDAR
VERSION:2.0
PRODID:-//wp-events-plugin.com//7.2.3.1//EN
BEGIN:VEVENT
UID:393@zwar-langenfeld.de
DTSTART:20241011T150000Z
DTEND:20241011T150000Z
DTSTAMP:20240523T193254Z
URL:https://zwar-langenfeld.de/events/fahrradgruppe-2024-10-11/
SUMMARY:Fahrradgruppe
DESCRIPTION:Freitag\n\nTreff ist alle 2 Wochen \, in der Sommerzeit ( von M
 ärz bis Oktober ) um 16 Uhr Cafe am Wald.\n\nWohin es geht wird vor Ort b
 esprochen.\n\nImmer dabei ist gute Laune und eine Einkehr darf auch nicht 
 fehlen.
ATTACH;FMTTYPE=image/jpeg:https://zwar-langenfeld.de/wp-content/uploads/20
 24/03/IMG_1425.jpg
CATEGORIES:Fahrradtour
LOCATION:Café am Wald\, Langfort 3\, Langenfeld\, 40764\, Deutschland
X-APPLE-STRUCTURED-LOCATION;VALUE=URI;X-ADDRESS=Langfort 3\, Langenfeld\, 4
 0764\, Deutschland;X-APPLE-RADIUS=100;X-TITLE=Café am Wald:geo:0,0
END:VEVENT
END:VCALENDAR