BEGIN:VCALENDAR
VERSION:2.0
PRODID:-//wp-events-plugin.com//7.2.3.1//EN
BEGIN:VEVENT
UID:855@zwar-langenfeld.de
DTSTART:20251215T083000Z
DTEND:20251215T100000Z
DTSTAMP:20251124T125725Z
URL:https://zwar-langenfeld.de/events/fruehstueck-stammtisch-2/
SUMMARY:Frühstück-Stammtisch
DESCRIPTION:&nbsp\;\nMyster I's\nKonrad-Adenauer-Platz\, 40769 Langenfeld\n
 \nAnmeldung erforderlich!\n(Bitte bei  Gudrun melden)
ATTACH;FMTTYPE=image/jpeg:https://zwar-langenfeld.de/wp-content/uploads/20
 25/11/istockphoto-1990023271-612x612-1.jpg
CATEGORIES:Frühstück-Stammtisch
END:VEVENT
END:VCALENDAR