BEGIN:VCALENDAR
VERSION:2.0
PRODID:-//wp-events-plugin.com//7.2.3.1//EN
BEGIN:VEVENT
UID:1377@zwar-langenfeld.de
DTSTART:20260123T090000Z
DTEND:20260123T100000Z
DTSTAMP:20260106T163104Z
URL:https://zwar-langenfeld.de/events/fruehstueck-stammtisch-3/
SUMMARY:Frühstück-Stammtisch
DESCRIPTION:
ATTACH;FMTTYPE=image/jpeg:https://zwar-langenfeld.de/wp-content/uploads/20
 25/11/istockphoto-1990023271-612x612-1.jpg
CATEGORIES:Frühstück-Stammtisch
LOCATION:Café am Wald\, Langfort 3\, Langenfeld\, 40764\, Deutschland
X-APPLE-STRUCTURED-LOCATION;VALUE=URI;X-ADDRESS=Langfort 3\, Langenfeld\, 4
 0764\, Deutschland;X-APPLE-RADIUS=100;X-TITLE=Café am Wald:geo:0,0
END:VEVENT
END:VCALENDAR