BEGIN:VCALENDAR
VERSION:2.0
PRODID:-//wp-events-plugin.com//7.2.3.1//EN
BEGIN:VEVENT
UID:473@zwar-langenfeld.de
DTSTART:20241015T090000Z
DTEND:20241015T150000Z
DTSTAMP:20241014T175811Z
URL:https://zwar-langenfeld.de/events/gasometer-oberhausen-15-oktober-2024
 /
SUMMARY:WIRD VERSCHOBEN !!!  Gasometer Oberhausen
DESCRIPTION:Der Besuch des Gasometers wird aus verkehrstechnischen Gründen
  verschoben!\n\nAusstellung "Planet Ozean"  \n\nWEB Flyer_OCEAN_301023 DE
  \n\nKosten:   \nEintritt ermäßigt (Rentner): 11 EUR / Person\nFührun
 g (max. 20 Personen): 70 EUR\n\nANFAHRT MIT DEM AUTO:\nA42 Ausfahrt Oberha
 usen-Zentrum\, in Richtung Zentrum fahren. Der Gasometer Oberhausen ist au
 sgeschildert.\nParkplätze sind in ausreichender Zahl vorhanden.\n\nDie Ad
 resse für das Navigationssystem:\nArenastraße 11 46047 Oberhausen\n\nFü
 hrung: 11 Uhr       Guide: Frau Bea Riewer\n\nHINWEIS:\nBitte beachtet
 \, dass der Gasometer Oberhausen ein Industriedenkmal von enormer Größe 
 und Höhe ist und nicht beheizt werden kann. Die Temperaturen im Innere en
 tsprechen der jeweiligen Außentemperatur.\nBitte achtet daher auf entspre
 chende Kleidung.\n\nNach Besichtigung Einkehr in "Das Klubhaus" am Gasomet
 er geplant:    https://othc.de/das-klubhaus/
ATTACH;FMTTYPE=image/jpeg:https://zwar-langenfeld.de/wp-content/uploads/20
 24/07/ozeane-gasometer-oberhausen-100_v-gseapremiumxl.jpg
CATEGORIES:Ausflüge
LOCATION:Parkplatz Freizeitpark gegenüber SGL\, Langforter Straße\, 40764
  Langenfeld\, Deutschland
X-APPLE-STRUCTURED-LOCATION;VALUE=URI;X-ADDRESS=Langforter Straße\, 40764 
 Langenfeld\, Deutschland;X-APPLE-RADIUS=100;X-TITLE=Parkplatz Freizeitpark
  gegenüber SGL:geo:0,0
END:VEVENT
END:VCALENDAR