BEGIN:VCALENDAR
VERSION:2.0
PRODID:-//wp-events-plugin.com//7.2.3.1//EN
BEGIN:VEVENT
UID:819@zwar-langenfeld.de
DTSTART:20250514T083000Z
DTEND:20250514T160000Z
DTSTAMP:20250429T082229Z
URL:https://zwar-langenfeld.de/events/gasometer-oberhausen/
SUMMARY:Gasometer Oberhausen
DESCRIPTION:Ausstellung "Planet Ozean"  \n\nWEB Flyer_OCEAN_301023 DE \n\n
 Kosten:   16 EUR / Person\nBitter zahlt den Betrag im Voraus an Gudrun.\
 n\nANFAHRT MIT DEM AUTO:\nA42 Ausfahrt Oberhausen-Zentrum\, in Richtung Ze
 ntrum fahren. Der Gasometer Oberhausen ist ausgeschildert.\nParkplätze si
 nd in ausreichender Zahl vorhanden.\n\nDie Adresse für das Navigationssys
 tem:\nArenastraße 11 46047 Oberhausen\n\nFührung: 11:15 Uhr       Gu
 ide: Herr Stephan Haas\n\nHINWEIS:\nBitte beachtet\, dass der Gasometer Ob
 erhausen ein Industriedenkmal von enormer Größe und Höhe ist und nicht 
 beheizt werden kann. Die Temperaturen im Innere entsprechen der jeweiligen
  Außentemperatur.\nBitte achtet daher auf entsprechende Kleidung.\n\nNach
  Besichtigung Einkehr in "Das Klubhaus" am Gasometer geplant:    https:/
 /othc.de/das-klubhaus/
ATTACH;FMTTYPE=image/jpeg:https://zwar-langenfeld.de/wp-content/uploads/20
 25/04/ozeane-gasometer-oberhausen-100_v-gseapremiumxl.jpg
CATEGORIES:Ausflüge
LOCATION:Parkplatz Freizeitpark gegenüber SGL\, Langforter Straße\, 40764
  Langenfeld\, Deutschland
X-APPLE-STRUCTURED-LOCATION;VALUE=URI;X-ADDRESS=Langforter Straße\, 40764 
 Langenfeld\, Deutschland;X-APPLE-RADIUS=100;X-TITLE=Parkplatz Freizeitpark
  gegenüber SGL:geo:0,0
END:VEVENT
END:VCALENDAR