BEGIN:VCALENDAR
VERSION:2.0
PRODID:-//wp-events-plugin.com//7.2.3.1//EN
BEGIN:VEVENT
UID:1419@zwar-langenfeld.de
DTSTART:20261031T160000Z
DTEND:20261031T224500Z
DTSTAMP:20260420T084156Z
URL:https://zwar-langenfeld.de/events/halloween/
SUMMARY:Halloween
DESCRIPTION:
ATTACH;FMTTYPE=image/jpeg:https://zwar-langenfeld.de/wp-content/uploads/20
 25/09/halloween_clipart_1.jpg
CATEGORIES:Feiern
LOCATION:Siegfried Dißmann Haus\, Solinger Straße 103\, 40764 Langenfeld\
 , Deutschland
X-APPLE-STRUCTURED-LOCATION;VALUE=URI;X-ADDRESS=Solinger Straße 103\, 4076
 4 Langenfeld\, Deutschland;X-APPLE-RADIUS=100;X-TITLE=Siegfried Dißmann H
 aus:geo:0,0
END:VEVENT
END:VCALENDAR