BEGIN:VCALENDAR
VERSION:2.0
PRODID:-//wp-events-plugin.com//7.2.3.1//EN
BEGIN:VEVENT
UID:466@zwar-langenfeld.de
DTSTART:20240730T080000Z
DTEND:20240730T130000Z
DTSTAMP:20240630T121404Z
URL:https://zwar-langenfeld.de/events/heinrichshuette-30-juli-2024/
SUMMARY:Heinrichshütte / 30. Juli 2024
DESCRIPTION:\nHenrichshütte  - Industriekultur erleben in Hattingen\n\n\n
 Start der Führung: 10:00 UhrKosten: 8 EUR / Person     ab 16 Personen
   7 EUR/Person\n\n\n\nEr ragt 55 Meter hoch und hat 80 Jahre auf dem Buck
 el: Der älteste Hochofen im Revier steht auf der Heinrichshütte in Hatti
 ngen. Zur Blütezeit arbeiteten 10.000 Menschen in dem Werk nahe der Ruhr.
  Lassen Sie sich faszinieren von den Relikten der Hüttenzeit\, staunen Si
 e über gewaltige Gasmaschinen und genießen Sie den Panoramablick vom Ho
 chofen.\n\n\n\nhttps://henrichshuette.lwl.org/de/\n
ATTACH;FMTTYPE=image/jpeg:https://zwar-langenfeld.de/wp-content/uploads/20
 24/06/blog-2020-09-18-henrichsthuette-80.webp
CATEGORIES:Ausflüge
LOCATION:Parkplatz Freizeitpark gegenüber SGL\, Langforter Straße\, 40764
  Langenfeld\, Deutschland
X-APPLE-STRUCTURED-LOCATION;VALUE=URI;X-ADDRESS=Langforter Straße\, 40764 
 Langenfeld\, Deutschland;X-APPLE-RADIUS=100;X-TITLE=Parkplatz Freizeitpark
  gegenüber SGL:geo:0,0
END:VEVENT
END:VCALENDAR