BEGIN:VCALENDAR
VERSION:2.0
PRODID:-//wp-events-plugin.com//7.2.3.1//EN
BEGIN:VEVENT
UID:1375@zwar-langenfeld.de
DTSTART:20280802T170000Z
DTEND:20280802T190000Z
DTSTAMP:20260105T120830Z
URL:https://zwar-langenfeld.de/events/kegeln-2026-01-21-2026-02-18-2026-03
 -18-2026-04-15-2026-08-05-2026-09-02-2026-09-30-2026-10-28-2026-11-25-2026
 -12-23-2027-01-20-2027-02-17-2027-03-17-2027-07-07-2027-08-04-2027-09-01-2
 02-05-2028-08-02/
SUMMARY:Kegeln
DESCRIPTION:Wir treffen uns alle vier Wochen im Café am Wald um 18 Uhr.\n\
 nBitte in den Kalender schauen.
ATTACH;FMTTYPE=image/jpeg:https://zwar-langenfeld.de/wp-content/uploads/20
 24/04/images.jpg
CATEGORIES:Kegeln
LOCATION:Café am Wald\, Langfort 3\, Langenfeld\, 40764\, Deutschland
X-APPLE-STRUCTURED-LOCATION;VALUE=URI;X-ADDRESS=Langfort 3\, Langenfeld\, 4
 0764\, Deutschland;X-APPLE-RADIUS=100;X-TITLE=Café am Wald:geo:0,0
END:VEVENT
END:VCALENDAR