BEGIN:VCALENDAR
VERSION:2.0
PRODID:-//wp-events-plugin.com//7.2.3.1//EN
BEGIN:VEVENT
UID:1350@zwar-langenfeld.de
DTSTART:20260121T170000Z
DTEND:20260121T190000Z
DTSTAMP:20260105T120830Z
URL:https://zwar-langenfeld.de/events/kegeln-2026-01-21/
SUMMARY:Kegeln
DESCRIPTION:Wir treffen uns alle vier Wochen im Café am Wald um 18 Uhr.\n\
 nBitte in den Kalender schauen.
ATTACH;FMTTYPE=image/jpeg:https://zwar-langenfeld.de/wp-content/uploads/20
 24/04/images.jpg
CATEGORIES:Kegeln
LOCATION:Café am Wald\, Langfort 3\, Langenfeld\, 40764\, Deutschland
X-APPLE-STRUCTURED-LOCATION;VALUE=URI;X-ADDRESS=Langfort 3\, Langenfeld\, 4
 0764\, Deutschland;X-APPLE-RADIUS=100;X-TITLE=Café am Wald:geo:0,0
END:VEVENT
END:VCALENDAR