BEGIN:VCALENDAR
VERSION:2.0
PRODID:-//wp-events-plugin.com//7.2.3.1//EN
BEGIN:VEVENT
UID:667@zwar-langenfeld.de
DTSTART:20250612T170000Z
DTEND:20250612T200000Z
DTSTAMP:20250205T141559Z
URL:https://zwar-langenfeld.de/events/maenner-kochclub-2025-06-12/
SUMMARY:MÄNNER-Kochclub
DESCRIPTION:Männer unter sich am Herd !\n\nWann        einmal im Monat
    -  Donnerstag 18.00 - 21.00 Uhr  (siehe Kalender)\n\nWo:       
    Gemeindehaus der Ev. Erlöserkirche \, Hardt 23\, 40764 Langenfeld\n\n
 Männer\, die beste Möglichkeit\, Eure Kochkünste zu verbessern und glei
 chzeitig Spaß zu haben\, ist es\, neue Rezepte auszuprobieren und dabei e
 xperimentierfreudig zu sein. Lasst Eure Kreativität freien Lauf und scheu
 t Euch nicht nicht davor\, auch mal etwas Neues zu wagen. Und vor allem: l
 acht über Eure eigenen Küchenpannen und seht diese als Teil des Lernproz
 esses an.\n\n
ATTACH;FMTTYPE=image/jpeg:https://zwar-langenfeld.de/wp-content/uploads/20
 25/02/menschen-kochen-konzept_52683-37051.jpg
CATEGORIES:KOCHEN
LOCATION:Gemeindehaus - Ev. Erlöserkirche Langenfeld\, Hardt 23\, Langenfe
 ld\, NRW\, 40764\, Deutschland
X-APPLE-STRUCTURED-LOCATION;VALUE=URI;X-ADDRESS=Hardt 23\, Langenfeld\, NRW
 \, 40764\, Deutschland;X-APPLE-RADIUS=100;X-TITLE=Gemeindehaus - Ev. Erlö
 serkirche Langenfeld:geo:0,0
END:VEVENT
END:VCALENDAR