BEGIN:VCALENDAR
VERSION:2.0
PRODID:-//wp-events-plugin.com//7.2.3.1//EN
BEGIN:VEVENT
UID:847@zwar-langenfeld.de
DTSTART:20250827T144500Z
DTEND:20250827T190000Z
DTSTAMP:20250819T103245Z
URL:https://zwar-langenfeld.de/events/planwagenfahrt/
SUMMARY:Planwagenfahrt
DESCRIPTION:Planwagenfahrt in der Urdenbacher Kempe\nmit Einkehr im Restaur
 ant Rheinblick Baumberg am Campingplatz\n\nhttps://hausbuergel.de/kaltblut
 zucht-reuter/kutsch-und-planwagenfahrten/\n\nTreffpunkt:  15:45 Uhr Groß
 er Parkplatz Freizeitpark\n\nNach Bildung der Fahrgemeinschaften geht es z
 um Haus Bürgel.\n\nKosten Planwagenfahrt:\n\n160\,00 Euro / Planwagenfahr
 t\n(ca. 12 EUR / Teilnehmer)
ATTACH;FMTTYPE=image/jpeg:https://zwar-langenfeld.de/wp-content/uploads/20
 25/08/variant.jpg
CATEGORIES:Ausflüge
LOCATION:Parkplatz Freizeitpark gegenüber SGL\, Langforter Straße\, 40764
  Langenfeld\, Deutschland
X-APPLE-STRUCTURED-LOCATION;VALUE=URI;X-ADDRESS=Langforter Straße\, 40764 
 Langenfeld\, Deutschland;X-APPLE-RADIUS=100;X-TITLE=Parkplatz Freizeitpark
  gegenüber SGL:geo:0,0
END:VEVENT
END:VCALENDAR