BEGIN:VCALENDAR
VERSION:2.0
PRODID:-//wp-events-plugin.com//7.2.3.1//EN
BEGIN:VEVENT
UID:1384@zwar-langenfeld.de
DTSTART:20260721T091500Z
DTEND:20260721T150000Z
DTSTAMP:20260420T080849Z
URL:https://zwar-langenfeld.de/events/schloss-burg/
SUMMARY:Schloss Burg
DESCRIPTION:Schloss Burg klassisch - Paket 1\nBeginn der Führung: 11:15 Uh
 r\nAnreise mit PKW / Fahrgemeinschaften\n\n\nIm Paket 1 enthalten:\n• Ei
 ntritt + Führung durch die Räumlichkeiten von Schloss Burg\n• Große B
 ergische Kaffeetafel inkl. einem Heiß- oder Softgetränk\n\nWeitere Infor
 mationen\n• Aufenthaltsdauer: ca. 3 Stunden\, Teilnehmerzahl: min. 15 Pa
 x. | max. 50 Pax.\n• inkl. Großer Bergischer Kaffeetafel (süß + herzh
 aft) - 35\,00 €/Person\nGroße Bergische Kaffeetafel:\n• Waffel (Weize
 nmehl) mit heißen Kirschen\, Milchreis\, Zimt und Zucker\n• Rosinenstut
 en\, Burger Brezel\, Burger Zwieback\, Konfitüre\, Quark\, Butter\, Graub
 rot\, Schwarzbrot\, Schnittkäse\, roher Schinken\n• ein Getränk\n\n&nb
 sp\;\n\n&nbsp\;
ATTACH;FMTTYPE=image/jpeg:https://zwar-langenfeld.de/wp-content/uploads/20
 26/04/schloss-burg-AdobeStock_269677716.jpg
CATEGORIES:Ausflüge
LOCATION:Parkplatz Freizeitpark gegenüber SGL\, Langforter Straße\, 40764
  Langenfeld\, Deutschland
X-APPLE-STRUCTURED-LOCATION;VALUE=URI;X-ADDRESS=Langforter Straße\, 40764 
 Langenfeld\, Deutschland;X-APPLE-RADIUS=100;X-TITLE=Parkplatz Freizeitpark
  gegenüber SGL:geo:0,0
END:VEVENT
END:VCALENDAR