BEGIN:VCALENDAR
VERSION:2.0
PRODID:-//wp-events-plugin.com//7.2.3.1//EN
BEGIN:VEVENT
UID:465@zwar-langenfeld.de
DTSTART:20240626T090000Z
DTEND:20240626T140000Z
DTSTAMP:20240625T115133Z
URL:https://zwar-langenfeld.de/events/skulpturenpark-wuppertal-juni-2024/
SUMMARY:Skulpturenpark Wuppertal / Juni 2024
DESCRIPTION:Treffpunkt:   10 Uhr  Parkplatz  am Freizeitpark Langfort (
 gegenüber Tennisclub Grün-Weiß)\n\nDer Skulpturenpark Waldfrieden ist e
 in Skulpturenpark des englischen Bildhauers Tony Cragg in Wuppertal\, in d
 em auch zahlreiche Skulpturen anderer bekannter Künstler\, teilweise als 
 Leihgaben\, gezeigt werden.\n\nEr liegt inmitten eines idyllischen Waldgeb
 iets auf den Höhen zwischen Wuppertals Stadtzentren Elberfeld und Barmen.
  Alte Laubbäume säumen die lange Serpentinenstraße\, die zum Parkgelän
 de führt.\n\nAdresse:\n\nSkulpturenpark Waldfrieden\nHirschstraße 12\n42
 285 Wuppertal\n\nDer Skulpturenpark öffnet 11 Uhr.\n\nErmäßigte Tageska
 rte 9 EUR / Person\n\nHINWEISE FÜR DEN PARKBESUCH\n\n\nDer Skulpturen­pa
 rk kann aufgrund seiner Topo­graphie von Menschen mit körper­lichen Ein
 ­schränk­ungen und Bes­uchern\, die einen Kinder­wagen mitführen\, n
 ur ein­ge­schränkt besichtigt werden. Wir em­pfehlen Ihnen\, sich den 
 Witter­ungs­­verhält­nissen entsprechend zu kleiden und festes Schuh
 ­werk zu tragen. Das Mit­führen von Haus­tieren ist nicht gestattet. B
 itte beachten Sie außer­dem die im Skulpturen­park Wald­frieden gelten
 de Besucher­ordnung.\n\nhttps://skulpturenpark-waldfrieden.de/\n\nANREIS
 E MIT DEM AUTO\n\n\nVon der Autobahn A46 fahren Sie am Sonnborner Kreuz au
 f die L418 Richtung W.-Cronenberg/W.-Sonnborn. Fahren Sie rechts Richtung 
 W.-Barmen/W.-Langerfeld ab und halten Sie sich links. Folgen Sie der Aussc
 hilderung zum Skulpturenpark.\n\nAus Köln kommend fahren Sie auf der A1
  an der Ausfahrt W.-Ronsdorf ab. Folgen Sie der Ausschilderung Richtung W
 .-Elberfeld. Fahren Sie von der L418 rechts Richtung W.-Barmen ab. Folgen
  Sie der Ausschilderung zum Skulpturenpark.\n\nParkplätze für Menschen m
 it Schwerbehinderung\nUnsere ausgewiesenen Behindertenparkplätze befinden
  sich entlang der Auffahrt zum Skulpturenpark oberhalb des Café Podest. V
 on hier ist ein ansteigender\, teilweise geschotterter Fußweg von ca. 200
 m bis zum Kassengebäude und weiter in den Skulpturenpark zurück zu legen
 . Personen\, die auf einen Handrollstuhl angewiesen sind\, benötigen eine
  kräftige Begleitperson. Gern beraten wir Sie auch vor Ihrem Besuch zu de
 n Möglichkeiten vor Ort unter Tel. 0202 - 47898120 oder mail@skulpturenp
 ark-waldfrieden.de.\n\nBaustelle am Hesselnberg\nAufgrund von Bauarbeiten 
 entlang der Straße Hesselnberg kann es bei der Anreise mit dem PKW zu Beh
 inderungen kommen. Informationen über den aktuellen Baufortschritt und Um
 leitungen entlang der Strecke finden Sie auf der Webseite der Wuppertaler
  Stadtwerke. Dem dritten Bauabschnitt entsprechend ist derzeit die Straß
 e Hesselnberg im Abschnitt zwischen Gemsenweg und Bendahlerstraße gesperr
 t.\n\n\n&nbsp\;\n\n&nbsp\;\n\n&nbsp\;\n\n&nbsp\;\n\n\n&nbsp\;
CATEGORIES:Ausflüge
LOCATION:Parkplatz Freizeitpark gegenüber SGL\, Langforter Straße\, 40764
  Langenfeld\, Deutschland
X-APPLE-STRUCTURED-LOCATION;VALUE=URI;X-ADDRESS=Langforter Straße\, 40764 
 Langenfeld\, Deutschland;X-APPLE-RADIUS=100;X-TITLE=Parkplatz Freizeitpark
  gegenüber SGL:geo:0,0
END:VEVENT
END:VCALENDAR