BEGIN:VCALENDAR
VERSION:2.0
PRODID:-//wp-events-plugin.com//7.2.3.1//EN
BEGIN:VEVENT
UID:447@zwar-langenfeld.de
DTSTART:20240817T140000Z
DTEND:20240817T140000Z
DTSTAMP:20240806T080318Z
URL:https://zwar-langenfeld.de/events/sommerfest/
SUMMARY:Sommerfest
DESCRIPTION:Am 17.08. 2024 findet unser Sommerfest statt !\n\nWie immer im 
 Dissmann Haus\n\nTreff 15 Uhr
ATTACH;FMTTYPE=image/jpeg:https://zwar-langenfeld.de/wp-content/uploads/20
 24/05/sommerfest-2481356_1280.webp
LOCATION:Siegfried Dißmann Haus\, Solinger Straße 103\, 40764 Langenfeld\
 , Deutschland
X-APPLE-STRUCTURED-LOCATION;VALUE=URI;X-ADDRESS=Solinger Straße 103\, 4076
 4 Langenfeld\, Deutschland;X-APPLE-RADIUS=100;X-TITLE=Siegfried Dißmann H
 aus:geo:0,0
END:VEVENT
END:VCALENDAR