BEGIN:VCALENDAR
VERSION:2.0
PRODID:-//wp-events-plugin.com//7.2.3.1//EN
BEGIN:VEVENT
UID:584@zwar-langenfeld.de
DTSTART:20241003T160000Z
DTEND:20241003T190000Z
DTSTAMP:20241127T150227Z
URL:https://zwar-langenfeld.de/events/spieleabend-2024-10-03/
SUMMARY:Spieleabend
DESCRIPTION:Spiel\, Spaß und Spannung am Spieleabend!\n\nWir treffen uns j
 eden zweiten und vierten Donnerstag im Monat.\nJeder bringt seine Liebling
 sspiele von zu Hause mit. Mitspieler finden sich garantiert!\n\nDas Schön
 e an Spieleabenden:\n\nEgal ob man Pech oder Glück hat – am Ende gewinn
 en alle.\n\nDie Geselligkeit steht im Vordergrund.\n\n&nbsp\;\n\n&nbsp\;
ATTACH;FMTTYPE=image/jpeg:https://zwar-langenfeld.de/wp-content/uploads/20
 24/03/IMG_1516.png
CATEGORIES:Spieleabend
LOCATION:Café am Wald\, Langfort 3\, Langenfeld\, 40764\, Deutschland
X-APPLE-STRUCTURED-LOCATION;VALUE=URI;X-ADDRESS=Langfort 3\, Langenfeld\, 4
 0764\, Deutschland;X-APPLE-RADIUS=100;X-TITLE=Café am Wald:geo:0,0
END:VEVENT
END:VCALENDAR