BEGIN:VCALENDAR
VERSION:2.0
PRODID:-//wp-events-plugin.com//7.2.3.1//EN
BEGIN:VEVENT
UID:861@zwar-langenfeld.de
DTSTART:20260215T093000Z
DTEND:20260215T113000Z
DTSTAMP:20260105T110707Z
URL:https://zwar-langenfeld.de/events/wandern-kurzstrecke-2026-02-15/
SUMMARY:Wandern - Kurzstrecke
DESCRIPTION:Wanderung – kurz\nWir wandern jeden Sonntag.\nDie kurze und l
 ange Wanderung findet im Wechsel statt (siehe Kalender).\n\nStrecke:    
                     ca. 5  km\n\nSchwierigkeit:          
   leicht\n\nTreffpunkt:                 Parkplatz (groß) am Fre
 izeitpark Langfort\n(gegenüber Tennisclub Grün-Weiß)
ATTACH;FMTTYPE=image/jpeg:https://zwar-langenfeld.de/wp-content/uploads/20
 24/03/g.7619897.53148.2854321851.jpg
CATEGORIES:kurze Wanderung
LOCATION:Parkplatz Freizeitpark gegenüber SGL\, Langforter Straße\, 40764
  Langenfeld\, Deutschland
X-APPLE-STRUCTURED-LOCATION;VALUE=URI;X-ADDRESS=Langforter Straße\, 40764 
 Langenfeld\, Deutschland;X-APPLE-RADIUS=100;X-TITLE=Parkplatz Freizeitpark
  gegenüber SGL:geo:0,0
END:VEVENT
END:VCALENDAR