BEGIN:VCALENDAR
VERSION:2.0
PRODID:-//wp-events-plugin.com//7.2.3.1//EN
BEGIN:VEVENT
UID:1071@zwar-langenfeld.de
DTSTART:20260419T093000Z
DTEND:20260419T130000Z
DTSTAMP:20260105T111930Z
URL:https://zwar-langenfeld.de/events/wandern-lange-strecke-2-2026-04-19/
SUMMARY:Wandern - lange Strecke
DESCRIPTION:Wanderung – lang\nWir wandern jeden Sonntag.\nDie lange und k
 urze Wanderung findet im Wechsel statt (siehe Kalender).\n\nStrecke:    
                     ca. 10 km\n\nWir treffen uns auf dem  groß
 en Parkplatz  am Freizeitpark Langfort (gegenüber Tennisclub Grün-Weiß
 ).\nDas Wanderziel und die Route besprechen wir  vor Ort. Danach starten 
 unsere Fahrgemeinschaften  voller Vorfreude  zum ausgewählten Wanderpar
 kplatz.\n\nNach der Wanderung gönnen wir uns eine Verschnaufpause in eine
 r der naheliegenden Gaststätten.
ATTACH;FMTTYPE=image/jpeg:https://zwar-langenfeld.de/wp-content/uploads/20
 24/03/IMG_1414.png
CATEGORIES:lange Wanderung
LOCATION:Parkplatz Freizeitpark gegenüber SGL\, Langforter Straße\, 40764
  Langenfeld\, Deutschland
X-APPLE-STRUCTURED-LOCATION;VALUE=URI;X-ADDRESS=Langforter Straße\, 40764 
 Langenfeld\, Deutschland;X-APPLE-RADIUS=100;X-TITLE=Parkplatz Freizeitpark
  gegenüber SGL:geo:0,0
END:VEVENT
END:VCALENDAR