BEGIN:VCALENDAR
VERSION:2.0
PRODID:-//wp-events-plugin.com//7.2.3.1//EN
BEGIN:VEVENT
UID:78@zwar-langenfeld.de
DTSTART:20240303T093000Z
DTEND:20240303T140000Z
DTSTAMP:20240227T084707Z
URL:https://zwar-langenfeld.de/events/wandern/
SUMMARY:Wandern
DESCRIPTION:
LOCATION:Café am Wald\, Langfort 3\, Langenfeld\, 40764\, Deutschland
X-APPLE-STRUCTURED-LOCATION;VALUE=URI;X-ADDRESS=Langfort 3\, Langenfeld\, 4
 0764\, Deutschland;X-APPLE-RADIUS=100;X-TITLE=Café am Wald:geo:0,0
END:VEVENT
END:VCALENDAR