BEGIN:VCALENDAR
VERSION:2.0
PRODID:-//wp-events-plugin.com//7.2.3.1//EN
BEGIN:VEVENT
UID:1420@zwar-langenfeld.de
DTSTART:20261004T070000Z
DTEND:20261004T170000Z
DTSTAMP:20260420T083755Z
URL:https://zwar-langenfeld.de/events/wanderung-im-ahtal/
SUMMARY:Wanderung im Ahrtal
DESCRIPTION:Reise inkl. Busfahrt\, geführte Wanderung (ca. 3 Std.) Weinpro
 be mit Winzer-Vesper\nGestartet wird in Walporzheim (Stadtteil von Bad Neu
 enahr-Ahrweiler)\, unweit des Bahnhofs. Der Weg führt durch die bekannten
  Weinbergslagen „Alte Lay“\, „Kräuterberg“\, „Silberberg“ und
  „Rosenthal“.\nAusflug ist bei Latzel Reisen verbindlich gebucht / 
 Zahlungstermin: 01.09.2026\nGudrun teilt uns zur gegebenen Zeit die Zahlun
 gsmodalitäten und den zeitlichen Ablauf mit.
ATTACH;FMTTYPE=image/jpeg:https://zwar-langenfeld.de/wp-content/uploads/20
 24/05/bf331958-03a9-42eb-a641-d225ea827806_l.gif
CATEGORIES:Ausflüge
END:VEVENT
END:VCALENDAR