BEGIN:VCALENDAR
VERSION:2.0
PRODID:-//wp-events-plugin.com//7.2.3.1//EN
BEGIN:VEVENT
UID:289@zwar-langenfeld.de
DTSTART:20240825T093000Z
DTEND:20240825T150000Z
DTSTAMP:20240820T072624Z
URL:https://zwar-langenfeld.de/events/wanderung-lang-2024-08-25/
SUMMARY:Wanderung - lang
DESCRIPTION:Wanderung - lang\nWir wandern jeden Sonntag.\nDie lange und kur
 ze Wanderung findet im Wechsel statt (siehe Kalender).\n\nStrecke:     
                    ca. 10 km\n\nSchwierigkeit:            
   mittel\n\nWir treffen uns auf dem  großen Parkplatz  am Freizeitpark
  Langfort (gegenüber Tennisclub Grün-Weiß).\nDas Wanderziel und die Rou
 te besprechen wir  vor Ort. Danach starten unsere Fahrgemeinschaften  vo
 ller Vorfreude  zum ausgewählten Wanderparkplatz.\n\nNach der Wanderung 
 gönnen wir uns eine Verschnaufpause in einer der naheliegenden Gaststätt
 en.
ATTACH;FMTTYPE=image/jpeg:https://zwar-langenfeld.de/wp-content/uploads/20
 24/03/IMG_1414.png
CATEGORIES:lange Wanderung
LOCATION:Parkplatz Freizeitpark gegenüber SGL\, Langforter Straße\, 40764
  Langenfeld\, Deutschland
X-APPLE-STRUCTURED-LOCATION;VALUE=URI;X-ADDRESS=Langforter Straße\, 40764 
 Langenfeld\, Deutschland;X-APPLE-RADIUS=100;X-TITLE=Parkplatz Freizeitpark
  gegenüber SGL:geo:0,0
END:VEVENT
END:VCALENDAR