BEGIN:VCALENDAR
VERSION:2.0
PRODID:-//wp-events-plugin.com//7.2.3.1//EN
BEGIN:VEVENT
UID:853@zwar-langenfeld.de
DTSTART:20251208T173000Z
DTEND:20251208T200000Z
DTSTAMP:20250916T131444Z
URL:https://zwar-langenfeld.de/events/weihnachtsfeier-2/
SUMMARY:Weihnachtsfeier
DESCRIPTION:Weihnachtsessen in gemütlicher Runde
ATTACH;FMTTYPE=image/jpeg:https://zwar-langenfeld.de/wp-content/uploads/20
 25/09/Christmas-party-images-clip-art.jpg
CATEGORIES:Feiern
LOCATION:Siegfried Dißmann Haus Raum 111\, Solingerstraße 103 Eingang Gr
 ünstraße Raum 111\, 40764 Langenfeld\, Deutschland
X-APPLE-STRUCTURED-LOCATION;VALUE=URI;X-ADDRESS=Solingerstraße 103 Eingang
  Grünstraße Raum 111\, 40764 Langenfeld\, Deutschland;X-APPLE-RADIUS=100
 ;X-TITLE=Siegfried Dißmann Haus Raum 111:geo:0,0
END:VEVENT
END:VCALENDAR