BEGIN:VCALENDAR
VERSION:2.0
PRODID:-//wp-events-plugin.com//7.2.3.1//EN
BEGIN:VEVENT
UID:1379@zwar-langenfeld.de
DTSTART:20261207T173000Z
DTEND:20261207T210000Z
DTSTAMP:20260120T121712Z
URL:https://zwar-langenfeld.de/events/weihnachtsfeier-3/
SUMMARY:Weihnachtsfeier
DESCRIPTION:
ATTACH;FMTTYPE=image/jpeg:https://zwar-langenfeld.de/wp-content/uploads/20
 25/12/santa-claus-with-christmas-tree-free-vector.jpg
CATEGORIES:Feiern
LOCATION:Siegfried Dißmann Haus\, Solinger Straße 103\, 40764 Langenfeld\
 , Deutschland
X-APPLE-STRUCTURED-LOCATION;VALUE=URI;X-ADDRESS=Solinger Straße 103\, 4076
 4 Langenfeld\, Deutschland;X-APPLE-RADIUS=100;X-TITLE=Siegfried Dißmann H
 aus:geo:0,0
END:VEVENT
END:VCALENDAR