BEGIN:VCALENDAR
VERSION:2.0
PRODID:-//wp-events-plugin.com//7.2.3.1//EN
BEGIN:VEVENT
UID:1385@zwar-langenfeld.de
DTSTART:20260913T083000Z
DTEND:20260913T183000Z
DTSTAMP:20260418T133026Z
URL:https://zwar-langenfeld.de/events/zwar-und-friends-schiffsausflug-nach
 -linz/
SUMMARY:ZWAR und Friends Schiffsausflug nach Linz
DESCRIPTION:\n\n\nZWAR und Friends - Schiffausflug nach Linz\nmit der MS Rh
 einprinzessin der Bonner Personenschifffahrt\nSonntag\, den 13.09.2026 11:
 00 bis 18:00 UhrWo: Bootsanlieger in Ndk.-Monsdorf (neben der Anlegestelle
  der Fähre)\nMindestteilnehmerzahl: 180 Personen Maximalteilnehmerzahl: 2
 68 Personen\nEs können auch gerne Familienmitglieder\, Freunde\, Bekannte
  mitfahren!Organisiert von ZWAR e.V. Dortmund (Herr Michael Lüttge ZWAR N
 iederkassel SÜD)Programm:\n11:00 Uhr Abfahrt in Mondorf (Bereitliegezeit 
 ab 10:30 Uhr)\nca. 14:00 Uhr Ankunft in Linz\nca. 13:00 Uhr Mittagessen an
  Bord\nGeflügel-Geschnetzeltes mit Spätzle und Salat oder\neine vegetari
 sche Variante\nca. 2 Std. Aufenthalt in Linz zur freien Verfügung\nca. 16
 :00 Uhr Rückfahrt nach Mondorf\n\nKosten für Fahrt\, Mittagessen liegen 
 bei 44\,50 € pro Person.\nDieser Betrag setzt 180 Mitreisende voraus. We
 rden es weniger\, müssten man noch etwas zuzahlen.\nFahren mehr Personen 
 mit\, ist auch noch Musik mit im Programm enthalten.\n\nErst bei Zahlung i
 st die Reise verbindlich gebucht!\n\n&nbsp\;\n\nHin- und Rückreise erfolg
 t mit dem Bus. Kosten pro Person: ca. 15 - 18 Euro.\nDer Bus wird separat 
 von ZWAR-Langenfeld gebucht. Nähere Informationen werden nachgereicht.\n\
 n&nbsp\;\n\n\n
ATTACH;FMTTYPE=image/jpeg:https://zwar-langenfeld.de/wp-content/uploads/20
 26/04/2023-07-24.jpg
CATEGORIES:Ausflüge
LOCATION:S-Bahn Langenfeld\, Katzenbergstr. 1\, Langenfeld\, 40764\, Deutsc
 hland
X-APPLE-STRUCTURED-LOCATION;VALUE=URI;X-ADDRESS=Katzenbergstr. 1\, Langenfe
 ld\, 40764\, Deutschland;X-APPLE-RADIUS=100;X-TITLE=S-Bahn Langenfeld:geo:
 0,0
END:VEVENT
END:VCALENDAR